BEGIN:VCALENDAR
VERSION:2.0
PRODID:-//Eventin//Event Calendar//EN
CALSCALE:GREGORIAN
METHOD:PUBLISH
BEGIN:VEVENT
UID:a246583ef752957da117a74e89c0f2d3@magyarsportrehab.hu
SUMMARY:Az elülső keresztszalag sérülésének rehabilitációja
DESCRIPTION:Egynapos\, intenzív szakmai workshop\nAz ACL-sérülés és az
  azt követő rehabilitáció komplex döntéshozatali folyamat\, ahol a bi
 omechanika\, az erőfejlesztés\, a neuromuszkuláris kontroll és a pszich
 ológiai tényezők egyaránt meghatározzák a kimenetelt.\nEz az egynapos
  ACL workshop gyakorlatias\, strukturált keretet ad az ACL-rekonstrukció 
 utáni rehabilitáció legfontosabb kérdéseihez\, a korai szakasztól eg
 észen a sportba való visszatérésig.\nA fókusz a klinikai döntések lo
 gikáján\, a terhelés progresszióján\, valamint az objektív és funkci
 onális szempontokonvan.\nMit kapsz a workshopon?\n\n\nátlátható ACL-reh
 abilitációs keretrendszert\n\n\ngyakorlati példákat a különböző reh
 ab fázisokból\n\n\niránymutatást az erőfejlesztés és plyometria beve
 zetéséhez\n\n\nkritérium-alapú gondolkodást a sportba való visszatér
 éshez\n\n\nklinikumban azonnal alkalmazható eszközöket\n\n\nKinek aján
 lott?\n\n\ngyógytornászoknak\n\n\nsportrehabilitációs szakembereknek\n\
 n\nedzőknek\n\n\norvosoknak\n\n\nmindenkinek\, aki ACL-sérült sportolók
 kal dolgozik
LOCATION:ProBody Stúdió\, Budapest
DTSTAMP:20260419T130941Z
DTSTART:20260503T080000Z
DTEND:20260503T141500Z
END:VEVENT
END:VCALENDAR
