BEGIN:VCALENDAR
VERSION:2.0
PRODID:-//Eventin//Event Calendar//EN
CALSCALE:GREGORIAN
METHOD:PUBLISH
BEGIN:VEVENT
UID:c17d9f718209643d457fd58298b02af6@magyarsportrehab.hu
SUMMARY:Sportolók jellemző csípőízületi patológiái: differenciáldi
 agnosztika és rehabilitációs statégiák
DESCRIPTION:A sportolóknál jelentkező csípőfájdalom az egyik legössz
 etettebb mozgásszervi kihívás: gyakran több struktúra érintett\, a t
 ünetek nem egyértelműek\, a helyes diagnózis pedig kulcsfontosságú a 
 sikeres rehabilitációhoz és a biztonságos sportba való visszatéréshe
 z.\nEz a workshop átfogó\, klinikailag alkalmazható szemléletben mutatj
 a be a sportolók leggyakoribb csípőízületi patológiáit – a differe
 nciáldiagnosztika lépéseitől egészen a célzott rehabilitációs és t
 erhelésmenedzsment stratégiákig. A résztvevők gyakorlati algoritmusoka
 t és azonnal használható döntési szempontokat kapnak a mindennapi klin
 ikai munkához.\nA képzés során többek között szó lesz:\n\n\na sport
 olói csípő anatómiájáról és a leggyakoribb kórképekről (FAI\, la
 brum érintettség\, adductor- és flexor panaszok\, gluteális tendinopath
 iák\, lágyéksév\, stb.)\,\n\n\na csípő\, a medence és a lumbopelvic 
 régió differenciáldiagnosztikájáról\,\n\n\na klinikai vizsgálat stru
 kturált felépítéséről és a kulcsfontosságú tesztekről\,\n\n\na te
 rhelésmenedzsment és a progresszív rehabilitáció felépítéséről\,\
 n\n\na sportba való visszatérés kritériumairól és döntéshozatalár
 ól.\n\n\nA workshop célja\, hogy a résztvevők magabiztosabb klinikai go
 ndolkodással\, strukturált vizsgálati rendszerrel és bizonyítékalapú
  rehabilitációs eszköztárral térjenek vissza a praxisukba.\nA képzés
  gyógytornászoknak\, sportrehabilitációban dolgozó szakembereknek és 
 sportolókkal foglalkozó edzőknek ajánlott.\n\nElőadók:\n\nSinka Grét
 a\, gyógytornász-fizioterapeuta MSc\nVarró Tina\, gyógytornász-fiziote
 rapeuta MSc
LOCATION:ProBody Stúdió\, Budapest
DTSTAMP:20260421T082709Z
DTSTART:20260620T070000Z
DTEND:20260620T163000Z
END:VEVENT
END:VCALENDAR
